BEGIN:VCALENDAR
VERSION:2.0
PRODID:-//Rib River by Accentu, Inc. - ECPv6.15.20//NONSGML v1.0//EN
CALSCALE:GREGORIAN
METHOD:PUBLISH
X-WR-CALNAME:Rib River by Accentu, Inc.
X-ORIGINAL-URL:https://ribriver.com
X-WR-CALDESC:Events for Rib River by Accentu, Inc.
REFRESH-INTERVAL;VALUE=DURATION:PT1H
X-Robots-Tag:noindex
X-PUBLISHED-TTL:PT1H
BEGIN:VTIMEZONE
TZID:America/Chicago
BEGIN:DAYLIGHT
TZOFFSETFROM:-0600
TZOFFSETTO:-0500
TZNAME:CDT
DTSTART:20230312T080000
END:DAYLIGHT
BEGIN:STANDARD
TZOFFSETFROM:-0500
TZOFFSETTO:-0600
TZNAME:CST
DTSTART:20231105T070000
END:STANDARD
BEGIN:DAYLIGHT
TZOFFSETFROM:-0600
TZOFFSETTO:-0500
TZNAME:CDT
DTSTART:20240310T080000
END:DAYLIGHT
BEGIN:STANDARD
TZOFFSETFROM:-0500
TZOFFSETTO:-0600
TZNAME:CST
DTSTART:20241103T070000
END:STANDARD
BEGIN:DAYLIGHT
TZOFFSETFROM:-0600
TZOFFSETTO:-0500
TZNAME:CDT
DTSTART:20250309T080000
END:DAYLIGHT
BEGIN:STANDARD
TZOFFSETFROM:-0500
TZOFFSETTO:-0600
TZNAME:CST
DTSTART:20251102T070000
END:STANDARD
BEGIN:DAYLIGHT
TZOFFSETFROM:-0600
TZOFFSETTO:-0500
TZNAME:CDT
DTSTART:20260308T080000
END:DAYLIGHT
BEGIN:STANDARD
TZOFFSETFROM:-0500
TZOFFSETTO:-0600
TZNAME:CST
DTSTART:20261101T070000
END:STANDARD
BEGIN:DAYLIGHT
TZOFFSETFROM:-0600
TZOFFSETTO:-0500
TZNAME:CDT
DTSTART:20270314T080000
END:DAYLIGHT
BEGIN:STANDARD
TZOFFSETFROM:-0500
TZOFFSETTO:-0600
TZNAME:CST
DTSTART:20271107T070000
END:STANDARD
END:VTIMEZONE
BEGIN:VEVENT
DTSTART;TZID=America/Chicago:20260131T150000
DTEND;TZID=America/Chicago:20260131T190000
DTSTAMP:20260425T111058
CREATED:20260102T181812Z
LAST-MODIFIED:20260102T181812Z
UID:18271-1769871600-1769886000@ribriver.com
SUMMARY:Family Feud at Rib River
DESCRIPTION:Grab your friends\, your coworkers! Rally the family together and let’s feud! We are looking for 12 teams of 4-5 to sign up to compete for our Family Feud at Rib River 4-7pm on Saturday\, January 31st!\nFree for all who want to come enjoy the show! \n\n$60 entry fee for teams. Call 715-443-2060 to sign up.\n💰Cash Prizes:\n1st Place $100\n2nd Place $50 \n\nWhile all ages are welcome to enjoy the show\, please keep in mind that we cannot know what the contestants will say! Food & bar will be available during the show. Doors open 3pm.
URL:https://ribriver.com/event/family-feud-at-rib-river-2/
LOCATION:Rib River by Accentu\, 135737 E State Hwy 29\, Marathon\, WI\, 54448
CATEGORIES:Comedy,Entertainment
ATTACH;FMTTYPE=image/png:https://ribriver.com/wp-content/uploads/Family-Feud-1.31.2026.png
END:VEVENT
BEGIN:VEVENT
DTSTART;TZID=America/Chicago:20251231T173000
DTEND;TZID=America/Chicago:20260101T010000
DTSTAMP:20260425T111058
CREATED:20251103T183149Z
LAST-MODIFIED:20251219T175514Z
UID:17860-1767202200-1767229200@ribriver.com
SUMMARY:Comedy Night with Bob Zany
DESCRIPTION:Join us for dinner and an amazing show at our New Year’s Eve comedy night! Hosted by Joel Kunz\, featuring opener Brady Gregurich and headliner Bob Zany! \n\n\nTickets are $35(plus tax) and include the chicken dinner buffet. Bar and buffet open at 5:30pm. Buffet closes at 7pm; the comedy show will begin at 7:30pm. \n\n\nGet your tickets below: \n\n\n\nMeet your Headliner: Bob Zany \n\n“The most sarcastic comedian of all time.” Bob has appeared on over a thousand national T.V. shows from the “Tonight Show” to “Last Comic Standing” and a 17-year stint appearing on and co-hosting the “National Jerry Lewis Telethon.” His numerous film credits include “Joe Dirt” with David Spade\, Stephen Soderberg’s “The Informant” playing Matt Damon’s attorney. He also has available on Amazon\, a documentary about his career in showbiz\, “Close\, But No Cigar” opening with his appearance on “The Gong Show” with Chuck Barris in 1977 as the age of 15.\n\nHe’s heard weekly from coast to coast on radio with his Zany Report in over 25 markets plus years on the syndicated “The Bob and Tom Show” in over 150 markets as well as honored to film 11 episodes in front of a studio audience for drybarcomedy.com \n\n\n\nOpening Act: Brady Gregurich \nKnown for his high energy and hilarious storytelling\, Brady is a rising star in the Midwest comedy scene. In addition to being featured in Madison Comedy Week’s Fresh Faces of Comedy Showcase\, Brady has featured at top comedy clubs and venues such as the Skyline Comedy Club\, Goonie’s Comedy Club\, Laugh Camp Comedy Club\, and Island Resort and Casino. He’s shared the stage with greats like Joe List and Chad Daniels\, so you know you’re in for a treat and a wonderful night of laughs! \nDJ Paul Belky will be taking over after the show to ring in the new year; playing until 1:00am!
URL:https://ribriver.com/event/comedy-night-with-bob-zany/
LOCATION:Rib River by Accentu\, 135737 E State Hwy 29\, Marathon\, WI\, 54448
CATEGORIES:Comedy,Entertainment,Food,Music
ATTACH;FMTTYPE=image/png:https://ribriver.com/wp-content/uploads/Bob-Zany-Event-Cover.png
END:VEVENT
BEGIN:VEVENT
DTSTART;TZID=America/Chicago:20251129T130000
DTEND;TZID=America/Chicago:20251129T160000
DTSTAMP:20260425T111058
CREATED:20251023T181944Z
LAST-MODIFIED:20251023T181944Z
UID:17804-1764421200-1764432000@ribriver.com
SUMMARY:Family Feud at Rib River
DESCRIPTION:Make this Thanksgiving weekend one that you will never forget! Grab your friends\, your coworkers! Rally the family together and let’s feud! We are looking for 12 teams of 4-5 to sign up to compete for our Family Feud at Rib River 1-4pm on Saturday\, November 29th!\nFree for all who want to come enjoy the show! \n\n\n\n$60 entry fee for teams. Call 715-443-2060 to sign up.\nCash Prizes:\n1st Place $100\n2nd Place $50 \n\n\n\nWhile all ages are welcome to enjoy the show\, please keep in mind that we cannot know what the contestants will say! Food & bar will be available during and after the show. Stick around afterwards for Christmas carols with Empowerhouse Trio\, 6pm-9pm! More details here: Empowerhouse Trio Event
URL:https://ribriver.com/event/family-feud-at-rib-river/
LOCATION:Rib River by Accentu\, 135737 E State Hwy 29\, Marathon\, WI\, 54448
CATEGORIES:Comedy,Entertainment,Food
ATTACH;FMTTYPE=image/png:https://ribriver.com/wp-content/uploads/Family-Feud.png
END:VEVENT
BEGIN:VEVENT
DTSTART;TZID=America/Chicago:20250405T173000
DTEND;TZID=America/Chicago:20250405T210000
DTSTAMP:20260425T111058
CREATED:20250306T164414Z
LAST-MODIFIED:20250306T164414Z
UID:17270-1743874200-1743886800@ribriver.com
SUMMARY:Comedy Night with Brady Gregurich
DESCRIPTION:Join us for an evening of laughs and hysterical moments to help chase away the winter blues! \n  \nMeet your Headliner: Brady Gregurich \nKnown for his high energy and hilarious storytelling\, Brady is a rising star in the Midwest comedy scene. In addition to being featured in Madison Comedy Week’s Fresh Faces of Comedy Showcase\, Brady has featured at top comedy clubs and venues such as the Skyline Comedy Club\, Goonie’s Comedy Club\, Laugh Camp Comedy Club\, and Island Resort and Casino. He’s shared the stage with greats like Joe List and Chad Daniels\, so you know you’re in for a treat and a wonderful night of laughs! \n  \nOpening Act: We will be welcoming a surprise opener for the show! \n  \nTickets are $20 and include the Pizza Buffet with Salad and Breadsticks! Doors open 5:30pm show starts at 7:00pm.
URL:https://ribriver.com/event/comedy-night-with-brady-gregurich/
LOCATION:Rib River by Accentu\, 135737 E State Hwy 29\, Marathon\, WI\, 54448
CATEGORIES:Comedy,Entertainment,Food
ATTACH;FMTTYPE=image/png:https://ribriver.com/wp-content/uploads/RR-Comedy-4.5.2025.png
END:VEVENT
BEGIN:VEVENT
DTSTART;TZID=America/Chicago:20250215T130000
DTEND;TZID=America/Chicago:20250215T160000
DTSTAMP:20260425T111058
CREATED:20241209T163543Z
LAST-MODIFIED:20241209T163543Z
UID:16505-1739624400-1739635200@ribriver.com
SUMMARY:Family Feud
DESCRIPTION:Family Feud at Rib River 1-4pm on Saturday\, February 15th! \nFree for all who want to come enjoy the show! \nGrab your friends\, your coworkers! Rally the family together and let’s feud! We have openings for teams of 4-5 to sign up to compete. \n$50 entry fee for teams. Call 715-443-2060 or 715-870-2494 to sign up! \nCash Prizes:1st Place $1002nd Place $50 \nFood will be available for purchase.*This winter our venue is getting a face lift! We are remaining open during our exterior remodel.
URL:https://ribriver.com/event/family-feud/
LOCATION:Rib River by Accentu\, 135737 E State Hwy 29\, Marathon\, WI\, 54448
CATEGORIES:Comedy,Entertainment,Food
ATTACH;FMTTYPE=image/jpeg:https://ribriver.com/wp-content/uploads/Feud2.15.2024.jpg
END:VEVENT
BEGIN:VEVENT
DTSTART;TZID=America/Chicago:20241221T190000
DTEND;TZID=America/Chicago:20241221T203000
DTSTAMP:20260425T111058
CREATED:20241205T190828Z
LAST-MODIFIED:20241205T190828Z
UID:16460-1734807600-1734813000@ribriver.com
SUMMARY:Comedy Night With Rob Brackenridge
DESCRIPTION:Meet your Headliner: Rob Brackenridge \nAlways the class clown (and spending most of his formative years in the principal’s office)\, Rob Brackenridge was destined to become a comedian. Born and raised in Wisconsin\, Rob has been based out of Los Angeles since 1992 and spends most of the year on the road\, “bringing the funny” to audiences around the world. He tours regularly for the U.S. troops on the Miller Lite “Lite Laffs” program\, and has performed in 10 different countries and most of the 50 states. He worked with the Red Hot Chili Peppers at the Molson Ice Polar Beach Party. \nRob’s television credits include Comedy Central’s “Make Me Laugh” and “Stand-Up\, Stand-Up.” \nCheck out Rob 👉 https://youtu.be/whPNR2OlpvE?si=nw1_1l9rlycQwoYv \nOpening Act: We will be welcoming a surprise opener for the show! \nLooking for dinner and a show? Call 715-443-2060 to make a reservation for our Prime Rib Dinner! We are taking reservations before the show 4:30-6:00pm. Check out our Prime Rib Night event page for more information and our menu. 👉 https://www.facebook.com/events/1823400714862948
URL:https://ribriver.com/event/comedy-night-with-rob-brackenridge/
LOCATION:Rib River by Accentu\, 135737 E State Hwy 29\, Marathon\, WI\, 54448
CATEGORIES:Comedy,Entertainment,Food
ATTACH;FMTTYPE=image/png:https://ribriver.com/wp-content/uploads/Dec-21st-Comedy-Night-FB-Event-Cover-113784.png
END:VEVENT
BEGIN:VEVENT
DTSTART;TZID=America/Chicago:20241102T163000
DTEND;TZID=America/Chicago:20241102T210000
DTSTAMP:20260425T111058
CREATED:20241016T210424Z
LAST-MODIFIED:20241016T212133Z
UID:16354-1730565000-1730581200@ribriver.com
SUMMARY:Sip N' Spit Comedy Night & Prime Rib Dinner
DESCRIPTION:Join us for a night of laughs and live music – featuring an epic comedy lineup\, and house music by psychedelic rock band Lost Without Moses.  \nHosted by Wausau’s own Jimi C.\, our comedy lineup includes: \n\nIrreverent hitchhiker Jordan Bain\, hailing from Green Bay\nMilwaukee’s most lovable Dre Lov\nErratic storyteller Lewis Bee from Stevens Point\n\nEnjoy it all with some drinks and a special Prime Rib dinner\, courtesy of the legendary Rib River Ballroom.\nTicket includes admission only. \nFor tickets to the show:\nOnline: https://www.eventbrite.com/e/sip-n-spit-comedy-night-tickets-1025102257447\nAt Doors: $15 \nCall Rib River at 715-870-2494 to make your Prime Rib dinner reservation.\nWe are taking dinner reservations for the following time slots:\n4:30pm\n5pm\n5:30pm\n6pm
URL:https://ribriver.com/event/sip-n-spit-comedy-night-prime-rib-dinner/
LOCATION:WI
CATEGORIES:Comedy,Entertainment,Food,Music
ATTACH;FMTTYPE=image/jpeg:https://ribriver.com/wp-content/uploads/redrooster-EVENT-1.jpg
END:VEVENT
END:VCALENDAR