BEGIN:VCALENDAR
VERSION:2.0
PRODID:-//Rib River by Accentu, Inc. - ECPv6.15.20//NONSGML v1.0//EN
CALSCALE:GREGORIAN
METHOD:PUBLISH
X-WR-CALNAME:Rib River by Accentu, Inc.
X-ORIGINAL-URL:https://ribriver.com
X-WR-CALDESC:Events for Rib River by Accentu, Inc.
REFRESH-INTERVAL;VALUE=DURATION:PT1H
X-Robots-Tag:noindex
X-PUBLISHED-TTL:PT1H
BEGIN:VTIMEZONE
TZID:America/Chicago
BEGIN:DAYLIGHT
TZOFFSETFROM:-0600
TZOFFSETTO:-0500
TZNAME:CDT
DTSTART:20240310T080000
END:DAYLIGHT
BEGIN:STANDARD
TZOFFSETFROM:-0500
TZOFFSETTO:-0600
TZNAME:CST
DTSTART:20241103T070000
END:STANDARD
BEGIN:DAYLIGHT
TZOFFSETFROM:-0600
TZOFFSETTO:-0500
TZNAME:CDT
DTSTART:20250309T080000
END:DAYLIGHT
BEGIN:STANDARD
TZOFFSETFROM:-0500
TZOFFSETTO:-0600
TZNAME:CST
DTSTART:20251102T070000
END:STANDARD
BEGIN:DAYLIGHT
TZOFFSETFROM:-0600
TZOFFSETTO:-0500
TZNAME:CDT
DTSTART:20260308T080000
END:DAYLIGHT
BEGIN:STANDARD
TZOFFSETFROM:-0500
TZOFFSETTO:-0600
TZNAME:CST
DTSTART:20261101T070000
END:STANDARD
END:VTIMEZONE
BEGIN:VEVENT
DTSTART;TZID=America/Chicago:20251105T160000
DTEND;TZID=America/Chicago:20251105T190000
DTSTAMP:20260422T035123
CREATED:20251010T205651Z
LAST-MODIFIED:20251013T170416Z
UID:17733-1762358400-1762369200@ribriver.com
SUMMARY:2025 Rib River Taste Test
DESCRIPTION:We invite you to join us for our upcoming Taste Test at Rib River on November 5th. Each ticket is $20. For wedding couples with booked events or caterings\, this fee will be credited onto your event’s final invoice. Each additional guest you bring will not be credited or refunded for their ticket. Please select 3 meats\, 3 starches and 3 vegetables per guest attending from the menu selection options. On each place setting for your reservation will be a menu of the food items selected. \nTicket sales available until October 27th.
URL:https://ribriver.com/event/2025-rib-river-taste-test/
LOCATION:Rib River by Accentu\, 135737 E State Hwy 29\, Marathon\, WI\, 54448
CATEGORIES:Food
ATTACH;FMTTYPE=image/png:https://ribriver.com/wp-content/uploads/2025-Taste-Test-Website-Art-1.png
END:VEVENT
BEGIN:VEVENT
DTSTART;TZID=America/Chicago:20251107T160000
DTEND;TZID=America/Chicago:20251107T190000
DTSTAMP:20260422T035123
CREATED:20251013T171004Z
LAST-MODIFIED:20251013T171004Z
UID:17753-1762531200-1762542000@ribriver.com
SUMMARY:Fish Fry Buffet
DESCRIPTION:Join us on Friday\, November 7th\, 2025 for our fish fry buffet! 🍤🍻 \n\n\nDoors open at 4pm\, buffet will be served 4:30pm – 7pm. Full bar will be open from 4pm until close. \n\n\nAges 12+ $19.99\nAges 6-12 $12.99\nAges 3-6 $8.99\n\n\nReservations are encouraged for groups larger than 6. Walk-ins are welcome! Call (715) 443-2060 to make a reservation. \n\nFeatured Drinks:\nBlackberry Muddled Old Fashioned\nBloody Mary\nMoscow Mule \n\n\n*As always\, our fish fry buffet schedule is subject to change. Meaning we plan on doing a fish fry but will cancel if someone is looking to book the venue for that date. We will always post if a fish fry has been cancelled and you are always welcome to call with questions.
URL:https://ribriver.com/event/fish-fry-buffet-17/
LOCATION:Rib River by Accentu\, 135737 E State Hwy 29\, Marathon\, WI\, 54448
CATEGORIES:Food
ATTACH;FMTTYPE=image/png:https://ribriver.com/wp-content/uploads/Fish-Fry-11.7.2025.png
END:VEVENT
BEGIN:VEVENT
DTSTART;TZID=America/Chicago:20251114T160000
DTEND;TZID=America/Chicago:20251114T190000
DTSTAMP:20260422T035123
CREATED:20251020T172351Z
LAST-MODIFIED:20251020T172351Z
UID:17795-1763136000-1763146800@ribriver.com
SUMMARY:Fish Fry Buffet
DESCRIPTION:Join us on Friday\, November 14th\, 2025 for our fish fry buffet! 🍤🍻 \n\n\n\nDoors open at 4pm\, buffet will be served 4:30pm – 7pm. Full bar will be open from 4pm until close. \n\n\n\nAges 12+ $19.99\nAges 6-12 $12.99\nAges 3-6 $8.99 \n\n\n\nReservations are encouraged for groups larger than 6. Walk-ins are welcome! Call (715) 443-2060 to make a reservation. \n\n\n\nFeatured Drinks:\nBlackberry Muddled Old Fashioned\nBloody Mary\nMoscow Mule \n\n\n\n*As always\, our fish fry buffet schedule is subject to change. Meaning we plan on doing a fish fry but will cancel if someone is looking to book the venue for that date. We will always post if a fish fry has been cancelled and you are always welcome to call with questions.
URL:https://ribriver.com/event/fish-fry-buffet-18/
LOCATION:Rib River by Accentu\, 135737 E State Hwy 29\, Marathon\, WI\, 54448
CATEGORIES:Food
ATTACH;FMTTYPE=image/png:https://ribriver.com/wp-content/uploads/Fish-Fry-11.14.2025.png
END:VEVENT
BEGIN:VEVENT
DTSTART;TZID=America/Chicago:20251129T130000
DTEND;TZID=America/Chicago:20251129T160000
DTSTAMP:20260422T035123
CREATED:20251023T181944Z
LAST-MODIFIED:20251023T181944Z
UID:17804-1764421200-1764432000@ribriver.com
SUMMARY:Family Feud at Rib River
DESCRIPTION:Make this Thanksgiving weekend one that you will never forget! Grab your friends\, your coworkers! Rally the family together and let’s feud! We are looking for 12 teams of 4-5 to sign up to compete for our Family Feud at Rib River 1-4pm on Saturday\, November 29th!\nFree for all who want to come enjoy the show! \n\n\n\n$60 entry fee for teams. Call 715-443-2060 to sign up.\nCash Prizes:\n1st Place $100\n2nd Place $50 \n\n\n\nWhile all ages are welcome to enjoy the show\, please keep in mind that we cannot know what the contestants will say! Food & bar will be available during and after the show. Stick around afterwards for Christmas carols with Empowerhouse Trio\, 6pm-9pm! More details here: Empowerhouse Trio Event
URL:https://ribriver.com/event/family-feud-at-rib-river/
LOCATION:Rib River by Accentu\, 135737 E State Hwy 29\, Marathon\, WI\, 54448
CATEGORIES:Comedy,Entertainment,Food
ATTACH;FMTTYPE=image/png:https://ribriver.com/wp-content/uploads/Family-Feud.png
END:VEVENT
BEGIN:VEVENT
DTSTART;TZID=America/Chicago:20251129T180000
DTEND;TZID=America/Chicago:20251129T210000
DTSTAMP:20260422T035123
CREATED:20251023T182157Z
LAST-MODIFIED:20251023T182157Z
UID:17801-1764439200-1764450000@ribriver.com
SUMMARY:Empowerhouse Trio at Rib River 🎄
DESCRIPTION:Join us for dinner\, drinks and a free show with Empowerhouse Trio! Together they create a beautiful harmony to cover your favorite Christmas carols; this trio is a must see for the holidays! This will be the trios first show of the holiday season! \n\nEmpowerhouse trio is a female acapella group consisting of three lead singers from local area bands. They love everything Christmas! They combined their voices to bring harmony magic to all your favorite traditional and popular holiday songs. \n\nFood & bar will be available before and during the show. Show runs 6pm-9pm. The menu will be announced closer to the day. \n\n*For an extra show come out early to watch our Family Feud 1pm-4pm. More details here: Family Feud Event\n 
URL:https://ribriver.com/event/empowerhouse-trio-at-rib-river/
LOCATION:Rib River by Accentu\, 135737 E State Hwy 29\, Marathon\, WI\, 54448
CATEGORIES:Entertainment,Food,Music
ATTACH;FMTTYPE=image/jpeg:https://ribriver.com/wp-content/uploads/Empowerhouse-Trio-1.jpg
END:VEVENT
END:VCALENDAR