BEGIN:VCALENDAR
VERSION:2.0
PRODID:-//Rib River by Accentu, Inc. - ECPv6.15.20//NONSGML v1.0//EN
CALSCALE:GREGORIAN
METHOD:PUBLISH
X-ORIGINAL-URL:https://ribriver.com
X-WR-CALDESC:Events for Rib River by Accentu, Inc.
REFRESH-INTERVAL;VALUE=DURATION:PT1H
X-Robots-Tag:noindex
X-PUBLISHED-TTL:PT1H
BEGIN:VTIMEZONE
TZID:America/Chicago
BEGIN:DAYLIGHT
TZOFFSETFROM:-0600
TZOFFSETTO:-0500
TZNAME:CDT
DTSTART:20240310T080000
END:DAYLIGHT
BEGIN:STANDARD
TZOFFSETFROM:-0500
TZOFFSETTO:-0600
TZNAME:CST
DTSTART:20241103T070000
END:STANDARD
BEGIN:DAYLIGHT
TZOFFSETFROM:-0600
TZOFFSETTO:-0500
TZNAME:CDT
DTSTART:20250309T080000
END:DAYLIGHT
BEGIN:STANDARD
TZOFFSETFROM:-0500
TZOFFSETTO:-0600
TZNAME:CST
DTSTART:20251102T070000
END:STANDARD
BEGIN:DAYLIGHT
TZOFFSETFROM:-0600
TZOFFSETTO:-0500
TZNAME:CDT
DTSTART:20260308T080000
END:DAYLIGHT
BEGIN:STANDARD
TZOFFSETFROM:-0500
TZOFFSETTO:-0600
TZNAME:CST
DTSTART:20261101T070000
END:STANDARD
END:VTIMEZONE
BEGIN:VEVENT
DTSTART;TZID=America/Chicago:20251105T160000
DTEND;TZID=America/Chicago:20251105T190000
DTSTAMP:20260422T053850
CREATED:20251010T205651Z
LAST-MODIFIED:20251013T170416Z
UID:17733-1762358400-1762369200@ribriver.com
SUMMARY:2025 Rib River Taste Test
DESCRIPTION:We invite you to join us for our upcoming Taste Test at Rib River on November 5th. Each ticket is $20. For wedding couples with booked events or caterings\, this fee will be credited onto your event’s final invoice. Each additional guest you bring will not be credited or refunded for their ticket. Please select 3 meats\, 3 starches and 3 vegetables per guest attending from the menu selection options. On each place setting for your reservation will be a menu of the food items selected. \nTicket sales available until October 27th.
URL:https://ribriver.com/event/2025-rib-river-taste-test/
LOCATION:Rib River by Accentu\, 135737 E State Hwy 29\, Marathon\, WI\, 54448
CATEGORIES:Food
ATTACH;FMTTYPE=image/png:https://ribriver.com/wp-content/uploads/2025-Taste-Test-Website-Art-1.png
END:VEVENT
END:VCALENDAR