BEGIN:VCALENDAR
VERSION:2.0
PRODID:-//Rib River by Accentu, Inc. - ECPv6.15.20//NONSGML v1.0//EN
CALSCALE:GREGORIAN
METHOD:PUBLISH
X-WR-CALNAME:Rib River by Accentu, Inc.
X-ORIGINAL-URL:https://ribriver.com
X-WR-CALDESC:Events for Rib River by Accentu, Inc.
REFRESH-INTERVAL;VALUE=DURATION:PT1H
X-Robots-Tag:noindex
X-PUBLISHED-TTL:PT1H
BEGIN:VTIMEZONE
TZID:America/Chicago
BEGIN:DAYLIGHT
TZOFFSETFROM:-0600
TZOFFSETTO:-0500
TZNAME:CDT
DTSTART:20230312T080000
END:DAYLIGHT
BEGIN:STANDARD
TZOFFSETFROM:-0500
TZOFFSETTO:-0600
TZNAME:CST
DTSTART:20231105T070000
END:STANDARD
BEGIN:DAYLIGHT
TZOFFSETFROM:-0600
TZOFFSETTO:-0500
TZNAME:CDT
DTSTART:20240310T080000
END:DAYLIGHT
BEGIN:STANDARD
TZOFFSETFROM:-0500
TZOFFSETTO:-0600
TZNAME:CST
DTSTART:20241103T070000
END:STANDARD
BEGIN:DAYLIGHT
TZOFFSETFROM:-0600
TZOFFSETTO:-0500
TZNAME:CDT
DTSTART:20250309T080000
END:DAYLIGHT
BEGIN:STANDARD
TZOFFSETFROM:-0500
TZOFFSETTO:-0600
TZNAME:CST
DTSTART:20251102T070000
END:STANDARD
BEGIN:DAYLIGHT
TZOFFSETFROM:-0600
TZOFFSETTO:-0500
TZNAME:CDT
DTSTART:20260308T080000
END:DAYLIGHT
BEGIN:STANDARD
TZOFFSETFROM:-0500
TZOFFSETTO:-0600
TZNAME:CST
DTSTART:20261101T070000
END:STANDARD
END:VTIMEZONE
BEGIN:VEVENT
DTSTART;TZID=America/Chicago:20250314T163000
DTEND;TZID=America/Chicago:20250314T190000
DTSTAMP:20260420T111023
CREATED:20250212T181930Z
LAST-MODIFIED:20250212T181930Z
UID:17086-1741969800-1741978800@ribriver.com
SUMMARY:Fish Fry Buffet
DESCRIPTION:Join us on Friday\, March 14th\, 2025 for our fish fry buffet! 🍤🍻 \n\nDoors open at 4pm\, buffet will be served 4:30pm – 7pm.\nFull bar will be open from 4pm until close. \nAdults: $19.99Under 12 years: $12.99Pay at the door. \nReservations are encouraged for groups larger than 6. Walk-ins are welcome!Call (715) 443-2060 to make a reservation. \nFeatured Drinks:Blackberry Muddled Old FashionedBloody MaryMoscow Mule \n*This winter our venue is getting a face lift! We are remaining open during our exterior remodel. \n 
URL:https://ribriver.com/event/fish-fry-buffet-7/
LOCATION:Rib River by Accentu\, 135737 E State Hwy 29\, Marathon\, WI\, 54448
CATEGORIES:Food
ATTACH;FMTTYPE=image/png:https://ribriver.com/wp-content/uploads/Fish-Fry-FB-3.14.2025.png
END:VEVENT
BEGIN:VEVENT
DTSTART;TZID=America/Chicago:20250307T163000
DTEND;TZID=America/Chicago:20250307T190000
DTSTAMP:20260420T111023
CREATED:20250212T181730Z
LAST-MODIFIED:20250212T181730Z
UID:17083-1741365000-1741374000@ribriver.com
SUMMARY:Fish Fry Buffet
DESCRIPTION:Join us on Friday\, March 7th\, 2025 for our fish fry buffet! 🍤🍻 \n\nDoors open at 4pm\, buffet will be served 4:30pm – 7pm.\nFull bar will be open from 4pm until close. \nAdults: $19.99Under 12 years: $12.99Pay at the door. \nReservations are encouraged for groups larger than 6. Walk-ins are welcome!Call (715) 443-2060 to make a reservation. \nFeatured Drinks:Blackberry Muddled Old FashionedBloody MaryMoscow Mule \n*This winter our venue is getting a face lift! We are remaining open during our exterior remodel. \n 
URL:https://ribriver.com/event/fish-fry-buffet-6/
LOCATION:Rib River by Accentu\, 135737 E State Hwy 29\, Marathon\, WI\, 54448
CATEGORIES:Food
ATTACH;FMTTYPE=image/png:https://ribriver.com/wp-content/uploads/Fish-Fry-3.7.2025.png
END:VEVENT
BEGIN:VEVENT
DTSTART;TZID=America/Chicago:20250228T163000
DTEND;TZID=America/Chicago:20250228T190000
DTSTAMP:20260420T111023
CREATED:20250121T234018Z
LAST-MODIFIED:20250121T234018Z
UID:16947-1740760200-1740769200@ribriver.com
SUMMARY:Fish Fry Buffet
DESCRIPTION:Join us on Friday\, February 28th\, 2025 for our fish fry buffet!  \n\nDoors open at 4pm\, buffet will be served 4:30pm – 7pm.\nFull bar will be open from 4pm until close. \nAdults: $19.99Under 12 years: $12.99Pay at the door. \nReservations are encouraged for groups larger than 6. Walk-ins are welcome!Call (715) 443-2060 to make a reservation. \nFeatured Drinks:Blackberry Muddled Old FashionedBloody MaryMoscow Mule \n*This winter our venue is getting a face lift! We are remaining open during our exterior remodel. \n 
URL:https://ribriver.com/event/fish-fry-buffet-5/
LOCATION:Rib River by Accentu\, 135737 E State Hwy 29\, Marathon\, WI\, 54448
CATEGORIES:Food
ATTACH;FMTTYPE=image/jpeg:https://ribriver.com/wp-content/uploads/FF2.28.2025.jpg
END:VEVENT
BEGIN:VEVENT
DTSTART;TZID=America/Chicago:20250215T130000
DTEND;TZID=America/Chicago:20250215T160000
DTSTAMP:20260420T111023
CREATED:20241209T163543Z
LAST-MODIFIED:20241209T163543Z
UID:16505-1739624400-1739635200@ribriver.com
SUMMARY:Family Feud
DESCRIPTION:Family Feud at Rib River 1-4pm on Saturday\, February 15th! \nFree for all who want to come enjoy the show! \nGrab your friends\, your coworkers! Rally the family together and let’s feud! We have openings for teams of 4-5 to sign up to compete. \n$50 entry fee for teams. Call 715-443-2060 or 715-870-2494 to sign up! \nCash Prizes:1st Place $1002nd Place $50 \nFood will be available for purchase.*This winter our venue is getting a face lift! We are remaining open during our exterior remodel.
URL:https://ribriver.com/event/family-feud/
LOCATION:Rib River by Accentu\, 135737 E State Hwy 29\, Marathon\, WI\, 54448
CATEGORIES:Comedy,Entertainment,Food
ATTACH;FMTTYPE=image/jpeg:https://ribriver.com/wp-content/uploads/Feud2.15.2024.jpg
END:VEVENT
BEGIN:VEVENT
DTSTART;TZID=America/Chicago:20250214T160000
DTEND;TZID=America/Chicago:20250214T230000
DTSTAMP:20260420T111023
CREATED:20250117T174858Z
LAST-MODIFIED:20250117T174858Z
UID:16899-1739548800-1739574000@ribriver.com
SUMMARY:Valentine's Prime Rib Night
DESCRIPTION:Come enjoy a romantic night out at Rib River on Friday\, February 14th\, 2025! We offer a very limited menu specialized around Chef Wally’s famous Prime Rib. This Prime Rib Night will be featuring live music by Noah Hittner. \nDinner reservations are available between 4:30pm-7pm. Full bar will be open from 4pm until close. Stay for drinks after dinner! \nCall 715-443-2060 for reservations. \n*This winter our venue is getting a face lift! We are remaining open during our exterior remodel.
URL:https://ribriver.com/event/valentines-prime-rib-night/
LOCATION:Rib River by Accentu\, 135737 E State Hwy 29\, Marathon\, WI\, 54448
CATEGORIES:Food,Music
ATTACH;FMTTYPE=image/png:https://ribriver.com/wp-content/uploads/Valentines2025.png
END:VEVENT
BEGIN:VEVENT
DTSTART;TZID=America/Chicago:20250207T163000
DTEND;TZID=America/Chicago:20250207T190000
DTSTAMP:20260420T111023
CREATED:20250121T233657Z
LAST-MODIFIED:20250121T233657Z
UID:16944-1738945800-1738954800@ribriver.com
SUMMARY:Fish Fry Buffet
DESCRIPTION:Join us on Friday\, February 7th\, 2025 for our fish fry buffet!  \n\nDoors open at 4pm\, buffet will be served 4:30pm – 7pm.\nFull bar will be open from 4pm until close. \nAdults: $19.99Under 12 years: $12.99Pay at the door. \nReservations are encouraged for groups larger than 6. Walk-ins are welcome!Call (715) 443-2060 to make a reservation. \nFeatured Drinks:Blackberry Muddled Old FashionedBloody MaryMoscow Mule \n*This winter our venue is getting a face lift! We are remaining open during our exterior remodel. \n 
URL:https://ribriver.com/event/fish-fry-buffet-4/
LOCATION:Rib River by Accentu\, 135737 E State Hwy 29\, Marathon\, WI\, 54448
CATEGORIES:Food
ATTACH;FMTTYPE=image/jpeg:https://ribriver.com/wp-content/uploads/FF2.7.2025.jpg
END:VEVENT
BEGIN:VEVENT
DTSTART;TZID=America/Chicago:20250201T163000
DTEND;TZID=America/Chicago:20250201T190000
DTSTAMP:20260420T111023
CREATED:20250122T000916Z
LAST-MODIFIED:20250122T000916Z
UID:16950-1738427400-1738436400@ribriver.com
SUMMARY:Prime Rib Night
DESCRIPTION:Come enjoy an elegant evening out on Saturday\, February 1st\, 2025! We offer a very limited menu specialized around Chef Wally’s famous Prime Rib. This is the perfect opportunity to bring your team out to celebrate last year’s success! \n\nDinner reservations are available between 4:30pm-7pm. Full bar will be open from 4pm until close. Stay for drinks after dinner!Call 715-443-2060 for reservations. \n\n*This winter our venue is getting a face lift! We are remaining open during our exterior remodel.
URL:https://ribriver.com/event/prime-rib-night-2/
LOCATION:Rib River by Accentu\, 135737 E State Hwy 29\, Marathon\, WI\, 54448
CATEGORIES:Food
ATTACH;FMTTYPE=image/jpeg:https://ribriver.com/wp-content/uploads/PR2.1.2025.jpg
END:VEVENT
BEGIN:VEVENT
DTSTART;TZID=America/Chicago:20250131T163000
DTEND;TZID=America/Chicago:20250131T190000
DTSTAMP:20260420T111023
CREATED:20250121T233403Z
LAST-MODIFIED:20250121T233403Z
UID:16941-1738341000-1738350000@ribriver.com
SUMMARY:Fish Fry Buffet
DESCRIPTION:Join us on Friday\, January 31st\, 2025 for our fish fry buffet!  \n\nDoors open at 4pm\, buffet will be served 4:30pm – 7pm.\nFull bar will be open from 4pm until close. \nAdults: $19.99Under 12 years: $12.99Pay at the door. \nReservations are encouraged for groups larger than 6. Walk-ins are welcome!Call (715) 443-2060 to make a reservation. \nFeatured Drinks:Blackberry Muddled Old FashionedBloody MaryMoscow Mule \n*This winter our venue is getting a face lift! We are remaining open during our exterior remodel. \n 
URL:https://ribriver.com/event/fish-fry-buffet-3/
LOCATION:Rib River by Accentu\, 135737 E State Hwy 29\, Marathon\, WI\, 54448
CATEGORIES:Food
ATTACH;FMTTYPE=image/jpeg:https://ribriver.com/wp-content/uploads/FF1.31.2025.jpg
END:VEVENT
BEGIN:VEVENT
DTSTART;TZID=America/Chicago:20250124T163000
DTEND;TZID=America/Chicago:20250124T190000
DTSTAMP:20260420T111023
CREATED:20250121T233202Z
LAST-MODIFIED:20250121T233202Z
UID:16938-1737736200-1737745200@ribriver.com
SUMMARY:Fish Fry Buffet
DESCRIPTION:Join us on Friday\, January 24th\, 2025 for our fish fry buffet!  \n\nDoors open at 4pm\, buffet will be served 4:30pm – 7pm.\nFull bar will be open from 4pm until close. \nAdults: $19.99Under 12 years: $12.99Pay at the door. \nReservations are encouraged for groups larger than 6. Walk-ins are welcome!Call (715) 443-2060 to make a reservation. \nFeatured Drinks:Blackberry Muddled Old FashionedBloody MaryMoscow Mule \n*This winter our venue is getting a face lift! We are remaining open during our exterior remodel. \n 
URL:https://ribriver.com/event/fish-fry-buffet/
LOCATION:Rib River by Accentu\, 135737 E State Hwy 29\, Marathon\, WI\, 54448
CATEGORIES:Food
ATTACH;FMTTYPE=image/jpeg:https://ribriver.com/wp-content/uploads/FF1.24.2025.jpg
END:VEVENT
BEGIN:VEVENT
DTSTART;TZID=America/Chicago:20241227T163000
DTEND;TZID=America/Chicago:20241227T190000
DTSTAMP:20260420T111023
CREATED:20241205T213959Z
LAST-MODIFIED:20241205T213959Z
UID:16490-1735317000-1735326000@ribriver.com
SUMMARY:Fish Fry Buffet
DESCRIPTION:Join us on Friday\, December 27th\, 2024 for our fish fry buffet!  \n\nDoors open at 4pm\, buffet will be served 4:30pm – 7pm.\nFull bar will be open from 4pm until close. \nAdults: $19.99Under 12 years: $12.99Pay at the door. \nReservations are encouraged for groups larger than 6. Walk-ins are welcome!Call (715) 443-2060 to make a reservation. \nFeatured Drinks:Blackberry Muddled Old FashionedBloody MaryMoscow Mule \n*This winter our venue is getting a face lift! We are remaining open during our exterior remodel. \n 
URL:https://ribriver.com/event/fish-fry-buffet-2/
LOCATION:Rib River by Accentu\, 135737 E State Hwy 29\, Marathon\, WI\, 54448
CATEGORIES:Food
ATTACH;FMTTYPE=image/jpeg:https://ribriver.com/wp-content/uploads/FF12.27.2024.jpg
END:VEVENT
BEGIN:VEVENT
DTSTART;TZID=America/Chicago:20241221T190000
DTEND;TZID=America/Chicago:20241221T203000
DTSTAMP:20260420T111023
CREATED:20241205T190828Z
LAST-MODIFIED:20241205T190828Z
UID:16460-1734807600-1734813000@ribriver.com
SUMMARY:Comedy Night With Rob Brackenridge
DESCRIPTION:Meet your Headliner: Rob Brackenridge \nAlways the class clown (and spending most of his formative years in the principal’s office)\, Rob Brackenridge was destined to become a comedian. Born and raised in Wisconsin\, Rob has been based out of Los Angeles since 1992 and spends most of the year on the road\, “bringing the funny” to audiences around the world. He tours regularly for the U.S. troops on the Miller Lite “Lite Laffs” program\, and has performed in 10 different countries and most of the 50 states. He worked with the Red Hot Chili Peppers at the Molson Ice Polar Beach Party. \nRob’s television credits include Comedy Central’s “Make Me Laugh” and “Stand-Up\, Stand-Up.” \nCheck out Rob 👉 https://youtu.be/whPNR2OlpvE?si=nw1_1l9rlycQwoYv \nOpening Act: We will be welcoming a surprise opener for the show! \nLooking for dinner and a show? Call 715-443-2060 to make a reservation for our Prime Rib Dinner! We are taking reservations before the show 4:30-6:00pm. Check out our Prime Rib Night event page for more information and our menu. 👉 https://www.facebook.com/events/1823400714862948
URL:https://ribriver.com/event/comedy-night-with-rob-brackenridge/
LOCATION:Rib River by Accentu\, 135737 E State Hwy 29\, Marathon\, WI\, 54448
CATEGORIES:Comedy,Entertainment,Food
ATTACH;FMTTYPE=image/png:https://ribriver.com/wp-content/uploads/Dec-21st-Comedy-Night-FB-Event-Cover-113784.png
END:VEVENT
BEGIN:VEVENT
DTSTART;TZID=America/Chicago:20241221T160000
DTEND;TZID=America/Chicago:20241221T180000
DTSTAMP:20260420T111023
CREATED:20241205T215543Z
LAST-MODIFIED:20241206T210045Z
UID:16493-1734796800-1734804000@ribriver.com
SUMMARY:Prime Rib Night
DESCRIPTION:Come enjoy mouth watering Prime Rib at Rib River on Saturday\, December 21st\, 2024! \nDinner reservations will be available 4:30pm-6pm.\nFull bar will be open from 4pm until close. Try our signature Blackberry Muddled Old Fashioned! \nWe are taking dinner reservations for the following time slots:\n4:30pm\n5:00pm\n5:30pm\n6:00pm\nCall us at (715) 443-2060 to make your reservation today! \nWe have an amazing comedian lined up for after dinner! Tickets are $15\, show starts at 7pm! Tickets available to purchase day of or in advance on Eventbrite 👇\nComedy Night With Rob Brackenridge Tickets\, Sat\, Dec 21\, 2024 at 7:00 PM | Eventbrite \n*This winter our venue is getting a face lift! We are remaining open during our exterior remodel.
URL:https://ribriver.com/event/prime-rib-night/
LOCATION:Rib River by Accentu\, 135737 E State Hwy 29\, Marathon\, WI\, 54448
CATEGORIES:Food
ATTACH;FMTTYPE=image/png:https://ribriver.com/wp-content/uploads/PR12.21.2024.png
END:VEVENT
BEGIN:VEVENT
DTSTART;TZID=America/Chicago:20241215T090000
DTEND;TZID=America/Chicago:20241215T123000
DTSTAMP:20260420T111023
CREATED:20241205T211431Z
LAST-MODIFIED:20241205T211431Z
UID:16479-1734253200-1734265800@ribriver.com
SUMMARY:Pancake Breakfast
DESCRIPTION:$10 Pancake Breakfast! 🥞\nSunday\, December 15th. Serving from 9:00 AM to 12:30 PM.\nJoin us for pancakes\, scrambled eggs\, and breakfast sausage. All you can eat! \n$10 per person (age 2 and under are free)\nCoffee\, milk\, juice\, and adult beverages are available for purchase at the bar. \nReservations recommended for groups of 6 or more. Call 715-443-2060 \n*This winter our venue is getting a face lift! We are remaining open during our exterior remodel.
URL:https://ribriver.com/event/pancake-breakfast/
LOCATION:Rib River by Accentu\, 135737 E State Hwy 29\, Marathon\, WI\, 54448
CATEGORIES:Food
ATTACH;FMTTYPE=image/jpeg:https://ribriver.com/wp-content/uploads/PCB12.15.2024.jpg
END:VEVENT
BEGIN:VEVENT
DTSTART;TZID=America/Chicago:20241123T160000
DTEND;TZID=America/Chicago:20241123T200000
DTSTAMP:20260420T111023
CREATED:20241016T213726Z
LAST-MODIFIED:20241016T214245Z
UID:16392-1732377600-1732392000@ribriver.com
SUMMARY:Prime Rib Night
DESCRIPTION:Come enjoy mouth watering Prime Rib at Rib River on Saturday\, November 23rd\, 2024!\nDinner reservations will be available 4:30pm-7pm. Full bar will be open from 4pm until close. Stay for drinks after dinner!\nWe are taking dinner reservations for the following time slots:\n4:30pm\n5pm\n5:30pm\n6pm\n6:30pm\n7pm\nCall us at (715) 443-2060 to make your reservation today!
URL:https://ribriver.com/event/prime-rib-night-november-23/
LOCATION:Rib River by Accentu\, 135737 E State Hwy 29\, Marathon\, WI\, 54448
CATEGORIES:Food
ATTACH;FMTTYPE=image/png:https://ribriver.com/wp-content/uploads/Prime-Rib-FB-Event-Cover-4.png
END:VEVENT
BEGIN:VEVENT
DTSTART;TZID=America/Chicago:20241122T163000
DTEND;TZID=America/Chicago:20241122T200000
DTSTAMP:20260420T111023
CREATED:20241016T212844Z
LAST-MODIFIED:20241016T212844Z
UID:16378-1732293000-1732305600@ribriver.com
SUMMARY:Fish Fry Buffet
DESCRIPTION:Join us on Friday\, November 22nd\, 2024 for our fish fry buffet!\nDoors open at 4pm\, buffet will be served 4:30pm – 7pm.\nFull bar will be open from 4pm until close. Menu to come!\nAdults: $19.99\nUnder 12 years: $12.99\nPay at the door.\nReservations are encouraged for groups larger than 6. Walk-ins are welcome!\nCall (715) 443-2060 to make a reservation.
URL:https://ribriver.com/event/fish-fry-buffet-november-22/
LOCATION:Rib River by Accentu\, 135737 E State Hwy 29\, Marathon\, WI\, 54448
CATEGORIES:Food
ATTACH;FMTTYPE=image/png:https://ribriver.com/wp-content/uploads/Fish-Fry-FB-Event-Cover-16.png
END:VEVENT
BEGIN:VEVENT
DTSTART;TZID=America/Chicago:20241117T090000
DTEND;TZID=America/Chicago:20241117T123000
DTSTAMP:20260420T111023
CREATED:20241016T213308Z
LAST-MODIFIED:20241016T213613Z
UID:16386-1731834000-1731846600@ribriver.com
SUMMARY:Pancake Breakfast
DESCRIPTION:Sunday\, November 17th. Serving from 9:00 AM to 12:30 PM.\nJoin us for pancakes\, scrambled eggs\, and breakfast sausage. All you can eat!\n$10 per person (age 2 and under are free)\nCoffee\, milk\, juice\, and adult beverages are available for purchase at the bar.\nReservations recommended for groups of 6 or more. Call 715-443-2060
URL:https://ribriver.com/event/pancake-breakfast-november-17/
LOCATION:Rib River by Accentu\, 135737 E State Hwy 29\, Marathon\, WI\, 54448
CATEGORIES:Food
ATTACH;FMTTYPE=image/png:https://ribriver.com/wp-content/uploads/Pancake-Breakfast-RR-FB-Event-Cover-NOV17.png
END:VEVENT
BEGIN:VEVENT
DTSTART;TZID=America/Chicago:20241115T163000
DTEND;TZID=America/Chicago:20241115T200000
DTSTAMP:20260420T111023
CREATED:20241016T212700Z
LAST-MODIFIED:20241016T212906Z
UID:16375-1731688200-1731700800@ribriver.com
SUMMARY:Fish Fry Buffet
DESCRIPTION:Join us on Friday\, November 15th\, 2024 for our fish fry buffet!\nDoors open at 4pm\, buffet will be served 4:30pm – 7pm.\nFull bar will be open from 4pm until close. Menu to come!\nAdults: $19.99\nUnder 12 years: $12.99\nPay at the door.\nReservations are encouraged for groups larger than 6. Walk-ins are welcome!\nCall (715) 443-2060 to make a reservation.
URL:https://ribriver.com/event/fish-fry-buffet-november-15/
LOCATION:Rib River by Accentu\, 135737 E State Hwy 29\, Marathon\, WI\, 54448
CATEGORIES:Food
ATTACH;FMTTYPE=image/png:https://ribriver.com/wp-content/uploads/Fish-Fry-FB-Event-Cover-15.png
END:VEVENT
BEGIN:VEVENT
DTSTART;TZID=America/Chicago:20241109T160000
DTEND;TZID=America/Chicago:20241109T200000
DTSTAMP:20260420T111023
CREATED:20241016T213453Z
LAST-MODIFIED:20241016T213522Z
UID:16389-1731168000-1731182400@ribriver.com
SUMMARY:Prime Rib Night
DESCRIPTION:Come enjoy mouth watering Prime Rib at Rib River on Saturday\, November 9th\, 2024!\nDinner reservations will be available 4:30pm-7pm. Full bar will be open from 4pm until close. Stay for drinks after dinner!\nWe are taking dinner reservations for the following time slots:\n4:30pm\n5pm\n5:30pm\n6pm\n6:30pm\n7pm\nCall us at (715) 443-2060 to make your reservation today!
URL:https://ribriver.com/event/prime-rib-night-november-9/
LOCATION:Rib River by Accentu\, 135737 E State Hwy 29\, Marathon\, WI\, 54448
CATEGORIES:Food
ATTACH;FMTTYPE=image/png:https://ribriver.com/wp-content/uploads/Prime-Rib-FB-Event-Cover-3.png
END:VEVENT
BEGIN:VEVENT
DTSTART;TZID=America/Chicago:20241108T163000
DTEND;TZID=America/Chicago:20241108T200000
DTSTAMP:20260420T111023
CREATED:20241016T212446Z
LAST-MODIFIED:20241016T212446Z
UID:16370-1731083400-1731096000@ribriver.com
SUMMARY:Fish Fry Buffet
DESCRIPTION:Join us on Friday\, November 8th\, 2024 for our fish fry buffet!\nDoors open at 4pm\, buffet will be served 4:30pm – 7pm.\nFull bar will be open from 4pm until close. Menu to come!\nAdults: $19.99\nUnder 12 years: $12.99\nPay at the door.\nReservations are encouraged for groups larger than 6. Walk-ins are welcome!\nCall (715) 443-2060 to make a reservation.
URL:https://ribriver.com/event/fish-fry-buffet-november-8/
LOCATION:Rib River by Accentu\, 135737 E State Hwy 29\, Marathon\, WI\, 54448
CATEGORIES:Food
ATTACH;FMTTYPE=image/png:https://ribriver.com/wp-content/uploads/Fish-Fry-FB-Event-Cover-14.png
END:VEVENT
BEGIN:VEVENT
DTSTART;TZID=America/Chicago:20241103T090000
DTEND;TZID=America/Chicago:20241103T123000
DTSTAMP:20260420T111023
CREATED:20241016T213141Z
LAST-MODIFIED:20241016T213141Z
UID:16382-1730624400-1730637000@ribriver.com
SUMMARY:Pancake Breakfast
DESCRIPTION:Sunday\, November 3rd. Serving from 9:00 AM to 12:30 PM.\nJoin us for pancakes\, scrambled eggs\, and breakfast sausage. All you can eat!\n$10 per person (age 2 and under are free)\nCoffee\, milk\, juice\, and adult beverages are available for purchase at the bar.\nReservations recommended for groups of 6 or more. Call 715-443-2060
URL:https://ribriver.com/event/pancake-breakfast-november-3/
LOCATION:Rib River by Accentu\, 135737 E State Hwy 29\, Marathon\, WI\, 54448
CATEGORIES:Food
ATTACH;FMTTYPE=image/png:https://ribriver.com/wp-content/uploads/Pancake-Breakfast-RR-FB-Event-Cover-NOV3.png
END:VEVENT
BEGIN:VEVENT
DTSTART;TZID=America/Chicago:20241102T163000
DTEND;TZID=America/Chicago:20241102T210000
DTSTAMP:20260420T111023
CREATED:20241016T210424Z
LAST-MODIFIED:20241016T212133Z
UID:16354-1730565000-1730581200@ribriver.com
SUMMARY:Sip N' Spit Comedy Night & Prime Rib Dinner
DESCRIPTION:Join us for a night of laughs and live music – featuring an epic comedy lineup\, and house music by psychedelic rock band Lost Without Moses.  \nHosted by Wausau’s own Jimi C.\, our comedy lineup includes: \n\nIrreverent hitchhiker Jordan Bain\, hailing from Green Bay\nMilwaukee’s most lovable Dre Lov\nErratic storyteller Lewis Bee from Stevens Point\n\nEnjoy it all with some drinks and a special Prime Rib dinner\, courtesy of the legendary Rib River Ballroom.\nTicket includes admission only. \nFor tickets to the show:\nOnline: https://www.eventbrite.com/e/sip-n-spit-comedy-night-tickets-1025102257447\nAt Doors: $15 \nCall Rib River at 715-870-2494 to make your Prime Rib dinner reservation.\nWe are taking dinner reservations for the following time slots:\n4:30pm\n5pm\n5:30pm\n6pm
URL:https://ribriver.com/event/sip-n-spit-comedy-night-prime-rib-dinner/
LOCATION:WI
CATEGORIES:Comedy,Entertainment,Food,Music
ATTACH;FMTTYPE=image/jpeg:https://ribriver.com/wp-content/uploads/redrooster-EVENT-1.jpg
END:VEVENT
BEGIN:VEVENT
DTSTART;TZID=America/Chicago:20241101T160000
DTEND;TZID=America/Chicago:20241101T200000
DTSTAMP:20260420T111023
CREATED:20241016T211547Z
LAST-MODIFIED:20241016T212543Z
UID:16363-1730476800-1730491200@ribriver.com
SUMMARY:Fish Fry Buffet
DESCRIPTION:Join us on Friday\, November 1st\, 2024 as we bring back our fish fry buffet!  \nDoors open at 4pm\, buffet will be served 4:30pm – 7pm.\nFull bar will be open from 4pm until close. Menu to come!\nAdults: $19.99\nUnder 12 years: $12.99\nPay at the door.\nReservations are encouraged for groups larger than 6. Walk-ins are welcome!\nCall (715) 443-2060 to make a reservation.
URL:https://ribriver.com/event/fish-fry-buffet-november-1/
LOCATION:Rib River by Accentu\, 135737 E State Hwy 29\, Marathon\, WI\, 54448
CATEGORIES:Food
ATTACH;FMTTYPE=image/png:https://ribriver.com/wp-content/uploads/Fish-Fry-FB-Event-Cover-13.png
END:VEVENT
BEGIN:VEVENT
DTSTART;TZID=America/Chicago:20241101T160000
DTEND;TZID=America/Chicago:20241101T200000
DTSTAMP:20260420T111023
CREATED:20241007T150501Z
LAST-MODIFIED:20241126T204107Z
UID:16300-1730476800-1730491200@ribriver.com
SUMMARY:Fish Fry
DESCRIPTION:Join us on Friday\, November 1st\, 2024 as we bring back our fish fry buffet!  \nDoors open at 4pm\, buffet will be served 4:30pm – 7pm.\nFull bar will be open from 4pm until close. Menu to come!\nAdults: $19.99\nUnder 12 years: $12.99\nPay at the door.\nReservations are encouraged for groups larger than 6. Walk-ins are welcome!\nCall (715) 443-2060 to make a reservation.
URL:https://ribriver.com/event/fish-fry/
LOCATION:Rib River by Accentu\, 135737 E State Hwy 29\, Marathon\, WI\, 54448
CATEGORIES:Food
END:VEVENT
END:VCALENDAR